BEGIN:VCALENDAR
VERSION:2.0
PRODID:-//Tukios.com/
BEGIN:VEVENT
UID:a3320859-3c03-430c-98c7-5e44d705fb23@www.grierfuneralservice.com
DTSTAMP:20260423T045927Z
DTSTART:20260425T180000Z
DTEND:20260425T190000Z
SUMMARY:Visitation
DESCRIPTION:
URL:https://www.grierfuneralservice.com/obituaries/lonnie-burris-jr
LOCATION: 115 John McCarroll Ave  Charlotte NC 28216
GEO:35.2670294;-80.8839109
END:VEVENT
END:VCALENDAR