BEGIN:VCALENDAR
VERSION:2.0
PRODID:-//Tukios.com/
BEGIN:VEVENT
UID:06b50dc9-dc6d-4aae-b6ad-921c394a1475@www.grierfuneralservice.com
DTSTAMP:20260423T050511Z
DTSTART:20260425T190000Z
DTEND:20260425T200000Z
SUMMARY:Funeral Service
DESCRIPTION:
URL:https://www.grierfuneralservice.com/obituaries/lonnie-burris-jr
LOCATION: 115 John McCarroll Ave  Charlotte NC 28216
GEO:35.2670294;-80.8839109
END:VEVENT
END:VCALENDAR