BEGIN:VCALENDAR
VERSION:2.0
PRODID:-//Tukios.com/
BEGIN:VEVENT
UID:34fc0b01-3f99-4d52-8814-90ac8803cce0@www.grierfuneralservice.com
DTSTAMP:20260423T050648Z
DTSTART:20260427
SUMMARY:Burial
DESCRIPTION:
URL:https://www.grierfuneralservice.com/obituaries/lonnie-burris-jr
LOCATION: 1508 Charles Raper Jonas Highway  Mount Holly NC 28120
GEO:35.3208323;-81.049109
END:VEVENT
END:VCALENDAR