BEGIN:VCALENDAR
VERSION:2.0
PRODID:-//Tukios.com/
BEGIN:VEVENT
UID:bebdca2f-ec54-411e-96ba-97896311b9ae@www.grierfuneralservice.com
DTSTAMP:20260421T234428Z
DTSTART:20260424T150000Z
DTEND:20260424T160000Z
SUMMARY:Visitation
DESCRIPTION:
URL:https://www.grierfuneralservice.com/obituaries/mary-jacobs
LOCATION: 115 John McCarroll Ave  Charlotte NC 28216
GEO:35.2670294;-80.8839109
END:VEVENT
END:VCALENDAR