BEGIN:VCALENDAR
VERSION:2.0
PRODID:-//Tukios.com/
BEGIN:VEVENT
UID:f559acac-e645-4f9f-9be7-691f625b74fc@www.grierfuneralservice.com
DTSTAMP:20260421T234449Z
DTSTART:20260424T160000Z
DTEND:20260424T170000Z
SUMMARY:Funeral Service
DESCRIPTION:
URL:https://www.grierfuneralservice.com/obituaries/mary-jacobs
LOCATION: 115 John McCarroll Ave  Charlotte NC 28216
GEO:35.2670294;-80.8839109
END:VEVENT
END:VCALENDAR