BEGIN:VCALENDAR
VERSION:2.0
PRODID:-//Tukios.com/
BEGIN:VEVENT
UID:bc48c2f4-1867-4e59-840b-a71c35b01095@www.grierfuneralservice.com
DTSTAMP:20260422T015920Z
DTSTART:20260501T160000Z
DTEND:20260501T170000Z
SUMMARY:Graveside Service
DESCRIPTION:
URL:https://www.grierfuneralservice.com/obituaries/rhoda-small
LOCATION: 1615 Oaklawn Ave  Charlotte NC 28216
GEO:35.2488762;-80.8483958
END:VEVENT
END:VCALENDAR