BEGIN:VCALENDAR
VERSION:2.0
PRODID:-//Tukios.com/
BEGIN:VEVENT
UID:5a3d031c-f661-4f73-b782-38d631e2517a@www.grierfuneralservice.com
DTSTAMP:20260422T025219Z
DTSTART:20260426T160000Z
DTEND:20260426T170000Z
SUMMARY:Visitation
DESCRIPTION:
URL:https://www.grierfuneralservice.com/obituaries/tyneta-steele
LOCATION: 115 John McCarroll Ave  Charlotte NC 28216
GEO:35.2670294;-80.8839109
END:VEVENT
END:VCALENDAR