BEGIN:VCALENDAR
VERSION:2.0
PRODID:-//Tukios.com/
BEGIN:VEVENT
UID:98cd90fb-acae-4b2a-b026-1c3f4ace3098@www.grierfuneralservice.com
DTSTAMP:20260422T024746Z
DTSTART:20260426T170000Z
DTEND:20260426T180000Z
SUMMARY:Funeral Service
DESCRIPTION:
URL:https://www.grierfuneralservice.com/obituaries/tyneta-steele
LOCATION: 115 John McCarroll Ave  Charlotte NC 28216
GEO:35.2670294;-80.8839109
END:VEVENT
END:VCALENDAR