BEGIN:VCALENDAR
VERSION:2.0
PRODID:-//Tukios.com/
BEGIN:VEVENT
UID:3aa2c42d-e69d-4310-a189-0232cc50cdcc@www.grierfuneralservice.com
DTSTAMP:20260422T025403Z
DTSTART:20260426
SUMMARY:Celebration of Life (Repass)
DESCRIPTION:Repass will follow funeral service.
URL:https://www.grierfuneralservice.com/obituaries/tyneta-steele
LOCATION:Celebration of Life Repass 4047 Munson Drive  Charlotte NC 28215
GEO:35.2427106;-80.6983705
END:VEVENT
END:VCALENDAR